BEGIN:VCALENDAR
VERSION:2.0
PRODID:-//Volunteer Nelson - ECPv6.15.18//NONSGML v1.0//EN
CALSCALE:GREGORIAN
METHOD:PUBLISH
X-WR-CALNAME:Volunteer Nelson
X-ORIGINAL-URL:https://www.volunteernelson.org.nz
X-WR-CALDESC:Events for Volunteer Nelson
REFRESH-INTERVAL;VALUE=DURATION:PT1H
X-Robots-Tag:noindex
X-PUBLISHED-TTL:PT1H
BEGIN:VTIMEZONE
TZID:Pacific/Auckland
BEGIN:STANDARD
TZOFFSETFROM:+1300
TZOFFSETTO:+1200
TZNAME:NZST
DTSTART:20200404T140000
END:STANDARD
BEGIN:DAYLIGHT
TZOFFSETFROM:+1200
TZOFFSETTO:+1300
TZNAME:NZDT
DTSTART:20200926T140000
END:DAYLIGHT
BEGIN:STANDARD
TZOFFSETFROM:+1300
TZOFFSETTO:+1200
TZNAME:NZST
DTSTART:20210403T140000
END:STANDARD
BEGIN:DAYLIGHT
TZOFFSETFROM:+1200
TZOFFSETTO:+1300
TZNAME:NZDT
DTSTART:20210925T140000
END:DAYLIGHT
BEGIN:STANDARD
TZOFFSETFROM:+1300
TZOFFSETTO:+1200
TZNAME:NZST
DTSTART:20220402T140000
END:STANDARD
BEGIN:DAYLIGHT
TZOFFSETFROM:+1200
TZOFFSETTO:+1300
TZNAME:NZDT
DTSTART:20220924T140000
END:DAYLIGHT
END:VTIMEZONE
BEGIN:VEVENT
DTSTART;TZID=Pacific/Auckland:20210526T130000
DTEND;TZID=Pacific/Auckland:20210526T143000
DTSTAMP:20260421T163144
CREATED:20210504T012334Z
LAST-MODIFIED:20210504T015000Z
UID:10000254-1622034000-1622039400@www.volunteernelson.org.nz
SUMMARY:Be Collective Training
DESCRIPTION:Free Training on Be Collective  \nWhen:  Wednesday 26th May\, 2021\nVenue:  Mahitahi Colab\, 322 Hardy St\, Nelson (Board Room)\nTime:    1.00 pm – 2.30 pm\nPresenter:  Alex Drummond \n\nPlease bring your own laptop \nBooking are required. Closing date for bookings is Friday 14th May. \nFor bookings\, email admin@volunteernelson.org.nz
URL:https://www.volunteernelson.org.nz/event/be-collective-training-2/
LOCATION:Nelson Tasman Chamber of Commerce\, 322 Hardy St\, Nelson\, New Zealand
CATEGORIES:Training
ATTACH;FMTTYPE=image/jpeg:https://www.volunteernelson.org.nz/wp-content/uploads/sites/13/2020/12/Be-Collective-web-image-e1620091089426.jpg
ORGANIZER;CN="Volunteer Nelson":MAILTO:admin@volunteernelson.org.nz
END:VEVENT
END:VCALENDAR