BEGIN:VCALENDAR
VERSION:2.0
PRODID:-//Volunteer Nelson - ECPv6.15.18//NONSGML v1.0//EN
CALSCALE:GREGORIAN
METHOD:PUBLISH
X-WR-CALNAME:Volunteer Nelson
X-ORIGINAL-URL:https://www.volunteernelson.org.nz
X-WR-CALDESC:Events for Volunteer Nelson
REFRESH-INTERVAL;VALUE=DURATION:PT1H
X-Robots-Tag:noindex
X-PUBLISHED-TTL:PT1H
BEGIN:VTIMEZONE
TZID:Pacific/Auckland
BEGIN:STANDARD
TZOFFSETFROM:+1300
TZOFFSETTO:+1200
TZNAME:NZST
DTSTART:20190406T140000
END:STANDARD
BEGIN:DAYLIGHT
TZOFFSETFROM:+1200
TZOFFSETTO:+1300
TZNAME:NZDT
DTSTART:20190928T140000
END:DAYLIGHT
BEGIN:STANDARD
TZOFFSETFROM:+1300
TZOFFSETTO:+1200
TZNAME:NZST
DTSTART:20200404T140000
END:STANDARD
BEGIN:DAYLIGHT
TZOFFSETFROM:+1200
TZOFFSETTO:+1300
TZNAME:NZDT
DTSTART:20200926T140000
END:DAYLIGHT
BEGIN:STANDARD
TZOFFSETFROM:+1300
TZOFFSETTO:+1200
TZNAME:NZST
DTSTART:20210403T140000
END:STANDARD
BEGIN:DAYLIGHT
TZOFFSETFROM:+1200
TZOFFSETTO:+1300
TZNAME:NZDT
DTSTART:20210925T140000
END:DAYLIGHT
END:VTIMEZONE
BEGIN:VEVENT
DTSTART;TZID=Pacific/Auckland:20201006T171500
DTEND;TZID=Pacific/Auckland:20201006T190000
DTSTAMP:20260421T192511
CREATED:20200908T231202Z
LAST-MODIFIED:20200908T231202Z
UID:10000248-1602004500-1602010800@www.volunteernelson.org.nz
SUMMARY:Governance Round Table - Everything you wanted to know about non-profit governance but were afraid to ask
DESCRIPTION:Do you have a question about your non-profit board? In our final Governance Roundtable session\, Governance Guru\, Garth Nowland-Foreman will answer all your governance questions. Nothing is off-limits. If you have a question\, it will be helpful if you can email it to garth@lead.org.nz. But he will also answer questions on the spot – including anonymous questions. This is your chance to have that governance query or concern answered. \n\n\nThis session will be led by Garth Nowland-Foreman\, an experienced trainer and facilitator\, and non-profit governance expert. Garth is a director of the LEAD Centre for Not for Profit Governance & Leadership www.lead.org.nz\, and led the recent Governance Bites series in Nelson. The Governance Roundtables offers a deeper dive on the practicalities of common non-profit board dilemmas and issues. Places are strictly limited so we can sit around a table and together apply real-world improvements to our individual different boards\, with the advantage of Garth’s extensive governance experience.\n\n\nTo register\, fill in this form – https://www.volunteernelson.org.nz/workshop-registration/Places limited: 15 places.\n\nIf you are not currently a member of the Strengthening Community Governance in Nelson Tasman Facebook group and would like to be\, or if you have any other questions\, please contact Holly at Volunteer Nelson on 03 546 7681 or admin@volunteernelson.org.nz
URL:https://www.volunteernelson.org.nz/event/governance-round-table-everything-you-wanted-to-know-about-non-profit-governance-but-were-afraid-to-ask/
LOCATION:Nelson Marlborough Institute of Technology
END:VEVENT
BEGIN:VEVENT
DTSTART;TZID=Pacific/Auckland:20201023T093000
DTEND;TZID=Pacific/Auckland:20201023T143000
DTSTAMP:20260421T192511
CREATED:20200817T025349Z
LAST-MODIFIED:20201005T020639Z
UID:10000247-1603445400-1603463400@www.volunteernelson.org.nz
SUMMARY:Young Change Makers
DESCRIPTION:Young Change Makers is an interactive learning forum\, empowering young people to take initiative in community action\, leadership and governance. Join in for a day of inspirational workshops\, discussions and presentations for young community leaders to connect on and support in the regions reboot. \nAlong to give a key note address at this years event is Golriz Ghahraman MP. Golriz is an Iranian-born New Zealand politician and member of Parliament. The former United Nations lawyer was a child asylum seeker\, and became the first refugee elected to New Zealand’s Parliament. \nNelson Young Change Makers is free to attend with registrations taken through participating schools or register directly by emailing holly@volunteernelson.org.nz. The event is suitable for students in years 11-13. Young Change Makers is brought to you by Nelson Youth Events with support from Volunteer Nelson\, and funding from Nelson City Council. \n  \n  \nDate: Friday 23 October \nTime: 9.30am – 2.30pm \nVenue: The Trafalgar Park Pavilion\, Nelson \nEvent listing: https://www.facebook.com/events/939056713259955
URL:https://www.volunteernelson.org.nz/event/young-change-makers/
LOCATION:Trafalgar Park Pavilion\, The Wood & Trafalgar Street\, Nelson\, 7010\, New Zealand
ORGANIZER;CN="Volunteer Nelson":MAILTO:admin@volunteernelson.org.nz
GEO:-41.270097;173.284066
X-APPLE-STRUCTURED-LOCATION;VALUE=URI;X-ADDRESS=Trafalgar Park Pavilion The Wood & Trafalgar Street Nelson 7010 New Zealand;X-APPLE-RADIUS=500;X-TITLE=The Wood & Trafalgar Street:geo:173.284066,-41.270097
END:VEVENT
END:VCALENDAR