BEGIN:VCALENDAR
VERSION:2.0
PRODID:-//Volunteer Nelson - ECPv6.15.18//NONSGML v1.0//EN
CALSCALE:GREGORIAN
METHOD:PUBLISH
X-WR-CALNAME:Volunteer Nelson
X-ORIGINAL-URL:https://www.volunteernelson.org.nz
X-WR-CALDESC:Events for Volunteer Nelson
REFRESH-INTERVAL;VALUE=DURATION:PT1H
X-Robots-Tag:noindex
X-PUBLISHED-TTL:PT1H
BEGIN:VTIMEZONE
TZID:Pacific/Auckland
BEGIN:STANDARD
TZOFFSETFROM:+1300
TZOFFSETTO:+1200
TZNAME:NZST
DTSTART:20190406T140000
END:STANDARD
BEGIN:DAYLIGHT
TZOFFSETFROM:+1200
TZOFFSETTO:+1300
TZNAME:NZDT
DTSTART:20190928T140000
END:DAYLIGHT
BEGIN:STANDARD
TZOFFSETFROM:+1300
TZOFFSETTO:+1200
TZNAME:NZST
DTSTART:20200404T140000
END:STANDARD
BEGIN:DAYLIGHT
TZOFFSETFROM:+1200
TZOFFSETTO:+1300
TZNAME:NZDT
DTSTART:20200926T140000
END:DAYLIGHT
BEGIN:STANDARD
TZOFFSETFROM:+1300
TZOFFSETTO:+1200
TZNAME:NZST
DTSTART:20210403T140000
END:STANDARD
BEGIN:DAYLIGHT
TZOFFSETFROM:+1200
TZOFFSETTO:+1300
TZNAME:NZDT
DTSTART:20210925T140000
END:DAYLIGHT
END:VTIMEZONE
BEGIN:VEVENT
DTSTART;TZID=Pacific/Auckland:20200901T171500
DTEND;TZID=Pacific/Auckland:20200901T191500
DTSTAMP:20260421T192502
CREATED:20200817T020132Z
LAST-MODIFIED:20200817T020220Z
UID:10000246-1598980500-1598987700@www.volunteernelson.org.nz
SUMMARY:Governance Round Table - Confident Board Oversight of the Finances
DESCRIPTION:What exactly is the board’s role in oversight of the finances? What are Treasurers actually responsible for\, and how is that different from other board members? How can you properly fulfil your obligations without micro-managing? What should we look for in financial reporting? What are the financial ‘red flags’ we need to keep an eye out for? What does every board member need to know about their finances? Why can’t we just rely on an independent audit or review?\n\n\nThis session will be led by Garth Nowland-Foreman\, an experienced trainer and facilitator\, and non-profit governance expert. Garth is a director of the LEAD Centre for Not for Profit Governance & Leadership www.lead.org.nz\, and led the recent Governance Bites series in Nelson. The Governance Roundtables offers a deeper dive on the practicalities of common non-profit board dilemmas and issues. Places are strictly limited so we can sit around a table and together apply real-world improvements to our individual different boards\, with the advantage of Garth’s extensive governance experience.\n\n\nIf you are not currently a member of the Strengthening Community Governance in Nelson Tasman Facebook group and would like to be\, or if you have any other questions\, please contact Holly at Volunteer Nelson on 03 546 7681 or admin@volunteernelson.org.nz
URL:https://www.volunteernelson.org.nz/event/governance-round-table-2/
LOCATION:Nelson Marlborough Institute of Technology
ORGANIZER;CN="Volunteer Nelson":MAILTO:admin@volunteernelson.org.nz
END:VEVENT
END:VCALENDAR